BEGIN:VCALENDAR
VERSION:2.0
PRODID:-//ChamberMaster//Event Calendar 2.0//EN
METHOD:PUBLISH
X-PUBLISHED-TTL:P3D
REFRESH-INTERVAL:P3D
CALSCALE:GREGORIAN
BEGIN:VEVENT
DTSTART;VALUE=DATE:20260918
DTEND;VALUE=DATE:20260921
TRANSP:TRANSPARENT
X-MICROSOFT-CDO-ALLDAYEVENT:TRUE
SUMMARY:47th Annual Arts in the Alley
DESCRIPTION:2026 Arts in the Alley Art & Music Festival
X-ALT-DESC;FMTTYPE=text/html:2026 Arts in the Alley Art &amp\; Music Festival
LOCATION:
UID:e.227.4776
SEQUENCE:3
DTSTAMP:20260420T035402Z
URL:https://business.gcchamber.org/events/details/47th-annual-arts-in-the-alley-4776
END:VEVENT

END:VCALENDAR
