BEGIN:VCALENDAR
VERSION:2.0
PRODID:-//ChamberMaster//Event Calendar 2.0//EN
METHOD:PUBLISH
X-PUBLISHED-TTL:P3D
REFRESH-INTERVAL:P3D
CALSCALE:GREGORIAN
BEGIN:VEVENT
DTSTART:20260505T130000Z
DTEND:20260505T150000Z
X-MICROSOFT-CDO-ALLDAYEVENT:FALSE
SUMMARY:AI in Action: Empower your Marketing & Sales Performance
DESCRIPTION:Hear professional talk about Utilizing AI to Empower Your Marketing and Sales Efforts. Come prepared to learn some amazing things and leave feeling very resourced.\n\n\n\nAI In Action will take you beyond theory with real-world examples from local Grove City companies that use AI to enhance marketing & sales.  \n\n\n\nPanelists will share how they are increasing productivity and driving revenue through practical AI applications.  Network with others to learn how you can easily implement AI in your business to increase productivity and revenue.
X-ALT-DESC;FMTTYPE=text/html:<h2 style="font-style:italic\;"><span style="font-family:verdana\;"><strong>Hear professional talk about Utilizing AI to Empower Your Marketing and Sales Efforts. Come prepared to learn some amazing things and leave feeling very resourced.</strong></span></h2>\n\n<h2 style="font-style:italic\;"><br />\n<span style="font-family:verdana\;"><strong>AI In Action will take you beyond theory with real-world examples from local Grove City companies that use AI to enhance marketing &amp\; sales.&nbsp\;&nbsp\;<br />\n<br />\nPanelists will share how they are increasing productivity and driving revenue through practical AI applications.&nbsp\; Network with others to learn how you can easily&nbsp\;implement&nbsp\;AI&nbsp\;in your&nbsp\;business to increase productivity and revenue.</strong></span></h2>\n
LOCATION:Eagle Pavilion\, Rotary Lake City YMCA 2670 Discovery Drive\, Grove City\, OH 43123
UID:e.227.4852
SEQUENCE:3
DTSTAMP:20260424T191623Z
URL:https://business.gcchamber.org/events/details/ai-in-action-empower-your-marketing-sales-performance-4852
END:VEVENT

END:VCALENDAR
