BEGIN:VCALENDAR
VERSION:2.0
PRODID:-//ChamberMaster//Event Calendar 2.0//EN
METHOD:PUBLISH
X-PUBLISHED-TTL:P3D
REFRESH-INTERVAL:P3D
CALSCALE:GREGORIAN
BEGIN:VEVENT
DTSTART:20260919T133000Z
DTEND:20260919T150000Z
X-MICROSOFT-CDO-ALLDAYEVENT:FALSE
SUMMARY:Arts in the Alley Community Parade
DESCRIPTION:
X-ALT-DESC;FMTTYPE=text/html:
LOCATION:Step off at the corner of Southwest Blvd & Broadway (US-62)
UID:e.227.4777
SEQUENCE:3
DTSTAMP:20260420T035347Z
URL:https://business.gcchamber.org/events/details/arts-in-the-alley-community-parade-4777
END:VEVENT

END:VCALENDAR
