BEGIN:VCALENDAR
VERSION:2.0
PRODID:-//ChamberMaster//Event Calendar 2.0//EN
METHOD:PUBLISH
X-PUBLISHED-TTL:P3D
REFRESH-INTERVAL:P3D
CALSCALE:GREGORIAN
BEGIN:VEVENT
DTSTART:20260624T120000Z
DTEND:20260624T130000Z
X-MICROSOFT-CDO-ALLDAYEVENT:FALSE
SUMMARY:Chamber 101 Next Steps 2026
DESCRIPTION:Welcome to the Grove City Area Chamber of Commerce!\nWhether you just joined the Chamber or are a seasoned member\, this program is essential for learning about the opportunities and benefits of GCACC Membership. Enjoy a light breakfast and network with other business reps in the community. This program\, facilitated by your Chamber Staff\, is designed to equip you with everything you need to know about how to get involved!
X-ALT-DESC;FMTTYPE=text/html:<div style="text-align: center\;">&nbsp\;</div>\n\n<p style="text-align: center\;"><span style="font-size:28px\;"><strong><span style="color:#0000FF\;">Welcome to the Grove City Area Chamber of Commerce!</span></strong></span></p>\n<span style="color:#0000FF\;"><em><span style="font-size:22px\;">Whether you just joined the Chamber or are a seasoned member\, this program is essential for learning about the opportunities and benefits of GCACC Membership. Enjoy a light breakfast and network with other business reps in the community. This program\, facilitated by your Chamber Staff\, is designed to equip you with everything you need to know about how to get involved!</span></em></span>
LOCATION:Grove City Area Chamber of Commerce 4069 Broadway Grove City\, OH 43123
UID:e.227.4847
SEQUENCE:3
DTSTAMP:20260424T234851Z
URL:https://business.gcchamber.org/events/details/chamber-101-next-steps-2026-4847
END:VEVENT

END:VCALENDAR
