BEGIN:VCALENDAR
VERSION:2.0
PRODID:-//ChamberMaster//Event Calendar 2.0//EN
METHOD:PUBLISH
X-PUBLISHED-TTL:P3D
REFRESH-INTERVAL:P3D
CALSCALE:GREGORIAN
BEGIN:VEVENT
DTSTART:20221203T000000Z
DTEND:20221203T020000Z
X-MICROSOFT-CDO-ALLDAYEVENT:FALSE
SUMMARY:Heart of Grove City | Christmas Parade
DESCRIPTION:Heart of Grove City Christmas Parade and Tree Lighting\n\nThe celebration kicks off on Friday\, December 2nd at 7 pm with the Christmas Parade.\n\nThe Town Center tree lighting with Santa follows immediately after the parade.\n\nInterested in your church or community organization being a part of the parade\, Submit Your Application Here!\n\n\n\nThe 2022 Christmas Parade Application Deadline to file is November 28th.\n\nRules:\n\nThe rules are simple.\n\n	There are to be no Santa Claus or Mrs. Claus in your entry.\n\nThese are provided by the Heart of Grove City.\n\n\n	All entries must be of a Christmas theme and be lighted accordingly.\n	All entries are limited to 25 walkers as there is a time constraint on the parade\, if walking units\, we prefer that there be some form of lighting for the walkers for their safety.\n	All entries are to meet and be lined up at the Park Street Middle School by 6:30 p.m.\n\nWe are using the parking lot on the west side of the school and you can gain entry only by way of the Park Street entrance. You may come as early as 5:30 pm to set up.\n\nThe parade will be going north onto Wilbur Avenue to Columbus Street and then west on Columbus to Broadway. Then we will go south on Broadway to Park Street and turn left. We will then disperse back at the school
X-ALT-DESC;FMTTYPE=text/html:Heart of Grove City Christmas Parade and Tree Lighting<br />\nThe celebration kicks off on Friday\, December 2nd at 7 pm with the Christmas Parade.<br />\nThe Town Center tree lighting with Santa follows immediately after the parade.<br />\nInterested in your church or community organization being a part of the parade\, <a href="https://www.heartofgrovecity.org/2016-christmas-parade-application/?fbclid=IwAR2Kp1mGWFyz_LR2muU7UYWFmDoX-1vke7A5TpLxCkI-8yTgUL6P-S90P74">Submit Your Application Here!</a><br />\n<br />\n<strong>The 2022 Christmas Parade Application Deadline to file is November 28th.</strong><br />\nRules:<br />\nThe rules are simple.\n<ul>\n	<li>There are to be no Santa Claus or Mrs. Claus in your entry.</li>\n</ul>\nThese are provided by the Heart of Grove City.\n\n<ul>\n	<li>All entries must be of a Christmas theme and be lighted accordingly.</li>\n	<li>All entries are limited to 25 walkers as there is a time constraint on the parade\, if walking units\, we prefer that there be some form of lighting for the walkers for their safety.</li>\n	<li>All entries are to meet and be lined up at the Park Street Middle School by 6:30 p.m.</li>\n</ul>\nWe are using the parking lot on the west side of the school and you can gain entry only by way of the Park Street entrance. You may come as early as 5:30 pm to set up.<br />\nThe parade will be going north onto Wilbur Avenue to Columbus Street and then west on Columbus to Broadway. Then we will go south on Broadway to Park Street and turn left. We will then disperse back at the school
LOCATION:We are using the parking lot on the west side of the school and you can gain entry only by way of the Park Street entrance. You may come as early as 5:30 pm to set up. The parade will be going north onto Wilbur Avenue to Columbus Street and then west on Columbus to Broadway. Then we will go south on Broadway to Park Street and turn left. We will then disperse back at the school.
UID:e.227.3146
SEQUENCE:3
DTSTAMP:20260421T121012Z
URL:https://business.gcchamber.org/events/details/heart-of-grove-city-christmas-parade-3146
END:VEVENT

END:VCALENDAR
